BEGIN:VCALENDAR
PRODID:-//event//iCal4j 1.0//EN
CALSCALE:GREGORIAN
BEGIN:VEVENT
DTSTAMP:20260423T100827Z
DTSTART:20211027T173000Z
DTEND:20211027T223000Z
SUMMARY:plumbingexam-2
LOCATION:
END:VEVENT
END:VCALENDAR
