BEGIN:VCALENDAR
PRODID:-//event//iCal4j 1.0//EN
CALSCALE:GREGORIAN
BEGIN:VEVENT
DTSTAMP:20260423T112015Z
DTSTART:20190222T160000Z
DTEND:20190222T170000Z
SUMMARY:plumbing-code-advisory-councilmeeting-0
LOCATION:
END:VEVENT
END:VCALENDAR
