BEGIN:VCALENDAR
PRODID:-//event//iCal4j 1.0//EN
CALSCALE:GREGORIAN
BEGIN:VEVENT
DTSTAMP:20260421T065356Z
DTSTART:20161109T160000Z
DTEND:20161109T170000Z
SUMMARY:developmentally-disabled-facility-advisory-boardmeeting
LOCATION:
END:VEVENT
END:VCALENDAR
