BEGIN:VCALENDAR
PRODID:-//event//iCal4j 1.0//EN
CALSCALE:GREGORIAN
BEGIN:VEVENT
DTSTAMP:20260423T120111Z
DTSTART:20160830T190000Z
DTEND:20160830T210000Z
SUMMARY:illinois-coroner-training-boardmeeting
LOCATION:
END:VEVENT
END:VCALENDAR
